BEGIN:VCALENDAR
VERSION:2.0
PRODID:-//Allen Auction - ECPv6.13.2.1//NONSGML v1.0//EN
CALSCALE:GREGORIAN
METHOD:PUBLISH
X-WR-CALNAME:Allen Auction
X-ORIGINAL-URL:https://allenauction.net
X-WR-CALDESC:Events for Allen Auction
REFRESH-INTERVAL;VALUE=DURATION:PT1H
X-Robots-Tag:noindex
X-PUBLISHED-TTL:PT1H
BEGIN:VTIMEZONE
TZID:America/Chicago
BEGIN:DAYLIGHT
TZOFFSETFROM:-0600
TZOFFSETTO:-0500
TZNAME:CDT
DTSTART:20260308T080000
END:DAYLIGHT
BEGIN:STANDARD
TZOFFSETFROM:-0500
TZOFFSETTO:-0600
TZNAME:CST
DTSTART:20261101T070000
END:STANDARD
END:VTIMEZONE
BEGIN:VEVENT
DTSTART;TZID=America/Chicago:20260502T090000
DTEND;TZID=America/Chicago:20260502T213000
DTSTAMP:20260423T070147
CREATED:20260305T143640Z
LAST-MODIFIED:20260421T182422Z
UID:13838-1777712400-1777757400@allenauction.net
SUMMARY:Large Toy Tractor & Implement Auction
DESCRIPTION:Selling 400+ Toy Tractors & Implements at auction. \nWe will be having this auction at our facility & sit down style auction \nPHOTOS\n\nJohn Deere (JD)\n\nJD 4020 WF w/ canopy & Bale Spear\nJD 4230 WF\nJD 4000 WF w/ canopy & Loader\nJD 5020\nJD 620 w/ 3pt Hitch\nJD 730 w/ 3pt Hitch\nJD 630 WF Propane\nJD 620 w/ 3pt Hitch\nJD B Danbury Mint w/ Clock\nJD A Customised\nJD 430 N/F\nJD 330 w/ 3pt Hitch\nJD 60\nJD 5020 w/ Canopy\nJD A Customizer\nJD MT W/F\nJD 4440\nJD M w/ Belly Mower\nJD LA\nJD 520 WF\nJD 2030 w/ Loader\nJD 4430\nJD A w/ Man\nJD B Flea Farm 2nd Toy Show\nJD 2755\nJD LP\nJD GP Cast Iron\nSouthern Indiana 7th Annual Toy Show JD 4446\nJD 4240 w/ Loader\nJD 4440\nJD 5020 Customize\nGreen JD Skid Loader\nJD 4020 w/ Cab & Duals\nJD 4440 Radio Control\nJD 4440\nJD 4440 Radio Control\nJD 4440\nJD Tandem Foldup Disc Yellow Games\nJD 4440\nJD Field Cultivator\nJD Hay Wagon\nJD Tandem Flat Bed Wagon\nJD Straw Holder\n2 Mini JD Grain Carts\nJD 4000 w/ 3pt Plow & Sun Canopy\nJD Truck Tractor\nJD Tandem Trailer w/ Ramp\nJD 3020 w/ 3pt Hitch NF\nJD 4020 WF w/ Canopy\nJD 2030 NF\nJD Manure Spreader\nJD 2020 WF\nJD 4020 NF w/ 3pt Blade\nJD 3020 NF w/ 3pt Hitch\nJD 3020 NF\nJD 3020 NF w/ 3pt Hitch\nJD 2010 3rd Annual Toy Show\nJD 4020 W/F\nJD 3020 NF w/ 3pt Hitch\nJD 3020 NF w/ 3pt Hitch & Air Cleaner\nJD Tandem Dump Trailer\nJD Air Plane Bank\nJD Air Plane Bank\nFrontier Grain Cart\nJD Disc\n2 JD Turbo Combine\nJD Manure Spreader Tandem w/ Gate\nJD Offset Disc\n2 JD Square Baler\nJD Pull Type Sickle Mower\nJD Big Round Baler\nJD 2550 NF\nJD 4 Bottom Quick Hitch Plow\nJD Mower/Conditioner\nJD 4430\nJD 4430 w/ Air Breather\nJD 4010 W/F\n2 JD 5200\n2 JD Plastic Barge Wagon\nJD Barge Wagon Metal\nJD Truck/Chuck Wagon Custom\nJD Gravity Flow Wagon\nJD 6 Row Cultivator\nJD AnHydrous Wagon\nJD Grain Drill Metal\nJD 4 Bottom Pull Plow\nJD Chuck Wagon\nJD Quick Hitch 6 Row Planter\nJD 8430\nFrontier Blade NIB\nJD MX7 Brush Hog NIB\nJD Mini Grain Cart\n2 JD Flat Bed Hay Wagon\nJD MX7 Brush Hog\nJD Fold Up Disc\nJD Metal Barge Wagon\nJD 314 Baler\n2 JD Hay Elevator\nJD 8300 T\nJD Quick Hitch Blade\nJD Disc Plow Pull Type\nJD 8550\nJD Model 10 Pedal Tractor Replica NIB\n\n\nOliver & Oliver-White\n\nOliver 1855 MFWD\nOliver 1850 2WD\nOliver 1955 Cab 2WD\nOliver 1800 J\nOliver 1855 2WD w/f\nOliver 1855 N/F 2WD\nOliver 1850 n/f 2WD\nOliver 1800 Cab w/f 200\nOliver Manure Spreader\nOliver 880 n/f\nOliver Super 77 w/ Canopy\nOliver Row Picker\nOliver Square Baler\nOliver Pull Type Combine\nOliver Dish\nOliver Model R Airplane Bank NIB\nOliver 1856 w/ Loader\nOliver 88 Row Crop NF\nOliver 88 Row Crop WF\nOliver 99 Super 8th Annual Michigan Toy Show\nOliver Bar Rake\nOliver Fold up Disk\nOliver Slik Baler\nOliver Slik Spreader\nOliver Slik Pull Combine\nOliver 880 NF\nOliver 77 NF\nOliver Super 77 NF w/ Umbrella\nOliver Slik Spreader\nOliver-White 1855 NF\nOliver 1850 NF\nOliver 1800 WF\nOliver-White 1855 NF\nOliver-White 1855 NF w/ Canopy\nOliver 1800 WF w/ Cab & Duals\nOliver 1855 NF\nOliver 1855 WF\nOliver 1850 WF\nOliver 1955 WF w/ Cab 100th Anniv\nOliver 1850 WF FWA\nOliver-White 1855 WF w/ cab Red\nOliver-White 1855 NF Red\nOliver-White 2255 WF w/ cab Scale Model Red\nOliver Air Plane Bank NIB\n\n\nCase\n\nCase 2390 Tractor w/ Cab\nCase 3294 Cab MFD\nCase 2590 Cab\nCase Agri-King Duals Loader\nCase 2570 Cab Duals\nCase 1370 w/ 504 Turbo\nCase 1070\nCase Agri-King w/ Cab\nCase 451 Turbo\nCase 1030\nCase 930\nCase 530 w/ Loader\nCase 930 w/ Canopy\n2 Case 4890 4×4\nCase Agri-King 1170 NIB\nCase 350\nCase Diesel 3500\n\n\nMinneapolis-Moline (MM)\n\nMM UDLX\nMM U w/ Canopy\nMM V NIB\nMM G750 NIB\nMM 445 Powerline NIB\nMM G940\nMM G750\nMM G1000\n\n\nCockshutt & CO-OP\n\nCOOP No. 3 Tractor NIB\nCockshutt Model 50\nCOOP No. 3 Tractor\nCockshutt 540 Tractor\nCOOP No. 54 Tractor\nCockshutt 570 Tractor\nCockshutt 500 NIB\nCockshutt 570 NIB\nCockshutt 20 NIB\nCockshutt Blackhawk 40 NIB\nCockshutt 5200 NIB\nCockshutt Blackhawk 50 NIB\n\n\nWhite\n\nWhite 9700 Combine w/ Platform\nWhite 2-180 Duals\nWhite 2-155 Duals\nWhite 2-180 Duals\nWhite 2-135 FWA\nWhite 2-155\nWhite Boss Duals\nWhite 2-155 Boss Duals\nWhite 2-180 Boss Duals\nWhite 2-135 Boss FWA\nWhite 2-135 Boss\nWhite 2185\nWhite 2-135 Duals\nWhite 2-185 Duals\nWhite 170 Workhorse FWA\nWhite 160\nWhite 195 Workhorse Duals\nWhite 160\nWhite 2-180 Wide Tires Series 3\nWhite 2-155 w/ Loader\nWhite 660 American NIB\nWhite 2-135 NIB\nWhite 2-135\nWhite Offset Disk\nWhite 25th Anniversary NIB\nWhite Mini Grain Cart\n\n\nOther & Miscellaneous\n\nSheppard 504 Diesel\nNew Idea 1 Row Corn Picker\nNew Idea 4865 Round Baler NIB\nMontgomery Ward NF Limited Edition NIB\nDavid Brown 990 Selectamatic NIB\nChallenger MT445 FWA\nChallenger MT265 FWA\nNew Idea Tandem 10 Ton Spreader\n2 Sheppard Diesel SD-3 NIB\nUnknown Spreader\nUnknown Spreader\n\n  \n*This list is subject to change and may not be all-inclusive. All updates will be made on our website. Announcement made the day of the sale take precedence over prior advertising*
URL:https://allenauction.net/?tribe_events=large-toy-tractor-implement-auction
END:VEVENT
BEGIN:VEVENT
DTSTART;TZID=America/Chicago:20260606T100000
DTEND;TZID=America/Chicago:20260606T170000
DTSTAMP:20260423T070147
CREATED:20260410T160615Z
LAST-MODIFIED:20260422T155656Z
UID:13938-1780740000-1780765200@allenauction.net
SUMMARY:Allen Thompson Auction
DESCRIPTION:Large Public Auction\nSaturday\, June 6 @ 10:00am\nAllen Auction Sale’s Lot\n490 S. Hwy 47\nHawk Point\, MO 63349\n  \nDue to my poor health and age\, I can no longer take care of my household. I will sell all of the following items.\n-Allen Thompson\n  \n           \nFeaturing:\nKubota BX 2680\, 3pt\, LA344 loader\, 58hrs\, 1 owner\nLand Pride 5’ blade\nUSA 3pt. sub soiler\n3pt. blade\n3pt. box blade\n2006 Ford Expedition XLT\, 81\,500 miles\, 1 owner\n2018 Doolittle 16’ cargo trailer\, like new\n1999 16’ tandem axle trailer w/ ramp\nRidgeline 14’ aluminum boat \, 18hp Evinrude & trailer \nShop Equipment\nHobart #140 wire feed welder\nHobart welder\nVulcan wire feed welder\n220amp arc welder\nplasma cutter\nMiller #140 welder\ncutting torch set\nlog chains\nhoist\nelectric winches\nlog chains\nChicago plasma cutter\nsaws-alls\nwelding wire\, tools\, helmets\, rods\nfloor model drill press\nbench-type drill press\nDeWalt upright air compressor\nsmall air compressors\ncherry picker\nroll around tool cart\ntool boxes\nhand tools\nbench grinders\nhardware\, nuts\, bolts\, screws\, nails\nstep ladders\nCraftsman tool set w/ caddy\nwrenches\nratchet sets\, ¼”\, 3/8”\, ½”\nfloor jacks\nrouter laser level\nelectric hand grinders\nriveter kits\ntap & die sets\nextension cords\nsoldering guns\nbattery chargers \nWoodworking\nTrademan 10” compound mitre saw\n10” portable table saw\nRyobi scroll saws\ndisc sanders\nCraftsman router w/ dust catcher\nbelt sanders\nPorter Cable 12” planer\n14” cutoff saw\n10” radial arm saw\nDremel multi tool\nRockwell multi tool\nChicago multi tool\nwood pipe clamps\n40”x28” woodworking table\, shelf & drawers\n5’x20” woodworking table\, shelf & drawers\n3’x 24” woodworking table\n2 large wood lathe\nStanley tool sets\njig saws\npneumatic nailers & tools\nRoto spiral saws\nelectric drills\, ½”\, 3/8”\, ¼”\ndrill bit sets\nheat guns\ncircle saws\ncorded drills\nChicago electric rotary hammer drill\nrouters in cases \nOutdoor\nrods and reels\ngolf club sets\ngolf balls\ncamping equipment\n10×10 canopies\nLP tanks\ncoolers\ngarden tools\ngarden supplies\nTroy Bilt power washer\nTroy Bilt rear tine tiller\npush mowers\nwheel barrows\nfolding tables \nFirearms & Ammo\n10 gun safe\nBrowning Citori 12ga o/u Invector plus w/ hard case\nAK-47\, 7.62×39\nLiberty S&S 12ga shotgun\nZastava Serbia AK-47\, 7.62×39\nIthaca LA .22 single shot\nRuger 10/22 w/ scope rail\nMossberg bolt action 12ga\nBB gun\, single shot\nSKS 7.62×39\nDPMS AR15 .223/5.56\nMossberg Model 500\, .410 pump vent rib shotgun\nStevens Favorit\, .22cal rolling block rifle\nRevolution 20ga pump shotgun\nWinchester model 190\, .22cal rifle\nSavage .22/.410 model 245 shotgun\nRemington model 1100 12ga shotgun\nCharles Daly o/u 12ga. shotgun\nMossberg 0/u 20ga shotgun\nMossberg 0/u 20ga shotgun\nRuger 10/22 takedown in case\nHenry US Survival .22cal rifle\nHenry LA 17MHR rifle\nSmith & Wesson M&P 15-22\, .22cal rifle\nHenry LA .22cal rifles\nHenry Golden Boy .22mag rifle\nHenry Golden Boy 17 MHMR rifle\nMarlin model 25\, .22cal bolt action rifle\nHenry .22LR pump\nWinchester model 1890\,. 22WRF rifle\nRemington model 12C\, .22cal pump rifle\nWinchester LA 94-44mag rifle\nWinchester model 190 .22 rifle\nSears & Robuck model100\, 30-30 rifle\nTaurus .22 LR\nTaurus Circuit Judge 45LC\nWinchester model 06\, .22LR\nRuger LC9\, 9mm w/ laser\nNorth American Arms\, .22mag conversion revolver\nSig Sauer P238\, .380 auto pistols\nSig Sauer  P938\, 9mm pistol\nTaurus PT 1911 AR .38 super pistol\nKimber ultra Crimson Carry II\, .45ACP\nHeritage .22cal combo\, 9” barrel revolver\nHeritage .22cal combo\, 4.75” barrel\nHeritage .22cal combo\, 6.5” barrel\nHeritage H&R 32mag\, 6.5” barrel\nSmith & Wesson M&P 40cal pistol\nTaurus PT1911\, 45ACP pistol\nColt D-A-32 revolver\nTaurs .357mag\, 4” barrel revolver\nRG model RG-26\, .25cal pistol\nSmith & Wesson .32cal long revolver\nRuger SR9C 9mm pistol\nTaurus Judge .45/.410 pistol\nSig Sauer 1911-.22 pistol\nTaurus .22mag revolver\nRuger SR-22 pistols\nSmith & Wesson Air-lite\, .22 revolver\nSentinel Deluxe .22LR\, 9 shot revolver\nBersa Thunder .380 pistol\nWalters model PP 7.65 pistol\nTaurus PT111 Pro 9mm pistol\nSmith & Wesson .32 win revolver\nSmith & Wesson .38 revolver\nTaurus Ultra Lite .38 special revolver\nSmith & Wesson Air Weight .38 special revolver\nReloading supplies & equipment \n*This list is subject to change. All updates will be made on our website. Announcements made the day of the sale take precedence over prior advertising*\nAuctioneer’s note: This is a very nice line of guns\, tools\, and equipment. Tractor and trailer are the same as new. A big part of the power hand tools and welders have never been used. \nSee you at the sale\,\nCharlie and Kyle \n  \nALLEN AUCTION & REAL ESTATE SERVICE LLC \n(636) 338-4805    ●   Hawk Point\, MO \nwww.allenauction.net \n 
URL:https://allenauction.net/?tribe_events=13938
END:VEVENT
BEGIN:VEVENT
DTSTART;TZID=America/Chicago:20260613T090000
DTEND;TZID=America/Chicago:20260613T170000
DTSTAMP:20260423T070147
CREATED:20260222T185747Z
LAST-MODIFIED:20260222T185747Z
UID:13828-1781341200-1781370000@allenauction.net
SUMMARY:Nick & Kathy Allen Memorial Scholarship Side x Side Run
DESCRIPTION:Information Coming Soon! \nWe are excited to announce the 2nd Annual Nick & Kathy Allen Memorial Side x Side Run! \nLast year\, we had over 100 side x sides & jeeps!\nWe helped raise over 10K for the Nick & Kathy Allen Memorial Scholarship for students entering college or the workforce in our area.
URL:https://allenauction.net/?tribe_events=nick-kathy-allen-memorial-scholarship-side-x-side-run
END:VEVENT
BEGIN:VEVENT
DTSTART;TZID=America/Chicago:20260625T180000
DTEND;TZID=America/Chicago:20260625T230000
DTSTAMP:20260423T070147
CREATED:20260418T225431Z
LAST-MODIFIED:20260418T225431Z
UID:14095-1782410400-1782428400@allenauction.net
SUMMARY:Warren County Livestock Auction
DESCRIPTION:Proud to support the Warren County Fair Livestock 4-H & FFA Exhibitors Sale
URL:https://allenauction.net/?tribe_events=warren-county-livestock-auction
END:VEVENT
BEGIN:VEVENT
DTSTART;TZID=America/Chicago:20260629T160000
DTEND;TZID=America/Chicago:20260629T180000
DTSTAMP:20260423T070147
CREATED:20260418T225218Z
LAST-MODIFIED:20260418T225218Z
UID:14093-1782748800-1782756000@allenauction.net
SUMMARY:PK Foundation Annual Golf Tournament Auction
DESCRIPTION:Proud to support the PK Foundation Annual Golf Tournament Auction
URL:https://allenauction.net/?tribe_events=pk-foundation-annual-golf-tournament-auction
END:VEVENT
END:VCALENDAR